BEGIN:VCALENDAR
VERSION:2.0
PRODID:-//Tukios.com/
BEGIN:VEVENT
UID:f6e1c175-ba16-48fc-9ee7-ce58b8ecfdbb@www.kansascityfuneral.net
DTSTAMP:20260422T021448Z
DTSTART:20260508T170000Z
DTEND:20260508T173000Z
SUMMARY:Graveside Service
DESCRIPTION:The cemetery is located on 158th Street between State Ave 
	(south) and Evans Road.
URL:https://www.kansascityfuneral.net/obituaries/david-bales
LOCATION:Glenwood Cemetery N 158th Street  Basehor KS 66007
GEO:39.1133248;-94.9457803
END:VEVENT
END:VCALENDAR