BEGIN:VCALENDAR
VERSION:2.0
PRODID:-//Tukios.com/
BEGIN:VEVENT
UID:592fc116-5285-4b85-9937-49e2b2954b96@www.kansascityfuneral.net
DTSTAMP:20260422T022107Z
DTSTART:20260508T180000Z
DTEND:20260508T210000Z
SUMMARY:Celebration of Life
DESCRIPTION:
URL:https://www.kansascityfuneral.net/obituaries/david-bales
LOCATION:The Bales Home Rose Street  Leavenworth KS 66048
GEO:39.2938032;-94.9102004
END:VEVENT
END:VCALENDAR