BEGIN:VCALENDAR
VERSION:2.0
PRODID:-//Tukios.com/
BEGIN:VEVENT
UID:24fdb616-e50c-405e-9acc-c5081989d272@www.kansascityfuneral.net
DTSTAMP:20260424T211759Z
DTSTART:20260428T150000Z
DTEND:20260428T160000Z
SUMMARY:Visitation
DESCRIPTION:
URL:https://www.kansascityfuneral.net/obituaries/linda-ott
LOCATION:Cross Points Church 6824 Lackman Rd  Shawnee KS 66217
GEO:39.0055415;-94.7635813
END:VEVENT
END:VCALENDAR