BEGIN:VCALENDAR
VERSION:2.0
PRODID:-//Tukios.com/
BEGIN:VEVENT
UID:7fa1f479-53e5-4659-8237-a52874785733@www.kansascityfuneral.net
DTSTAMP:20260424T211652Z
DTSTART:20260428T160000Z
DTEND:20260428T170000Z
SUMMARY:Funeral Service
DESCRIPTION:
URL:https://www.kansascityfuneral.net/obituaries/linda-ott
LOCATION: 6824 Lackman Rd  Shawnee KS 66217
GEO:39.0055415;-94.7635813
END:VEVENT
END:VCALENDAR