BEGIN:VCALENDAR
VERSION:2.0
PRODID:-//Tukios.com/
BEGIN:VEVENT
UID:ad7ce07d-beea-4ecd-9419-e6ee660b1c1b@www.kansascityfuneral.net
DTSTAMP:20260421T174427Z
DTSTART:20260424T153000Z
DTEND:20260424T163000Z
SUMMARY:Mass
DESCRIPTION:
URL:https://www.kansascityfuneral.net/obituaries/walter-clark-jr
LOCATION:St. Paul Catholic Church 21650 W 115th Terrace  Olathe KS 66061
GEO:38.9200417;-94.8362941
END:VEVENT
END:VCALENDAR