BEGIN:VCALENDAR
VERSION:2.0
PRODID:-//Tukios.com/
BEGIN:VEVENT
UID:818dbdee-e26f-49b9-a9fd-bd2c2cf4a230@www.kansascityfuneral.net
DTSTAMP:20260421T174912Z
DTSTART:20260424T183000Z
DTEND:20260424T184500Z
SUMMARY:Graveside Service
DESCRIPTION:
URL:https://www.kansascityfuneral.net/obituaries/walter-clark-jr
LOCATION:Gate of Heaven Catholic Cemetery 12600 Parallel Pkwy  Kansas 
	City KS 66109
GEO:39.1300278;-94.8747546
END:VEVENT
END:VCALENDAR