BEGIN:VCALENDAR
VERSION:2.0
PRODID:-//Tukios.com/
BEGIN:VEVENT
UID:04d3f688-6669-46f4-871b-924151528535@www.kansascityfuneral.net
DTSTAMP:20260421T174600Z
DTSTART:20260424T143000Z
DTEND:20260424T151500Z
SUMMARY:Visitation
DESCRIPTION:Visitation will be 9:30 am- 10:10 am
Rosary 10:10 am
Eulogy 
	10:25 am
URL:https://www.kansascityfuneral.net/obituaries/walter-clark-jr
LOCATION:St. Paul Catholic Church 21650 W 115th Terrace  Olathe KS 66061
GEO:38.9200417;-94.8362941
END:VEVENT
END:VCALENDAR